BEGIN:VCALENDAR
VERSION:2.0
PRODID:-//Missouri Gateway Green Building Council - ECPv6.15.15//NONSGML v1.0//EN
CALSCALE:GREGORIAN
METHOD:PUBLISH
X-WR-CALNAME:Missouri Gateway Green Building Council
X-ORIGINAL-URL:https://mogreenbuildings.org
X-WR-CALDESC:Events for Missouri Gateway Green Building Council
REFRESH-INTERVAL;VALUE=DURATION:PT1H
X-Robots-Tag:noindex
X-PUBLISHED-TTL:PT1H
BEGIN:VTIMEZONE
TZID:America/Chicago
BEGIN:DAYLIGHT
TZOFFSETFROM:-0600
TZOFFSETTO:-0500
TZNAME:CDT
DTSTART:20240310T080000
END:DAYLIGHT
BEGIN:STANDARD
TZOFFSETFROM:-0500
TZOFFSETTO:-0600
TZNAME:CST
DTSTART:20241103T070000
END:STANDARD
BEGIN:DAYLIGHT
TZOFFSETFROM:-0600
TZOFFSETTO:-0500
TZNAME:CDT
DTSTART:20250309T080000
END:DAYLIGHT
BEGIN:STANDARD
TZOFFSETFROM:-0500
TZOFFSETTO:-0600
TZNAME:CST
DTSTART:20251102T070000
END:STANDARD
BEGIN:DAYLIGHT
TZOFFSETFROM:-0600
TZOFFSETTO:-0500
TZNAME:CDT
DTSTART:20260308T080000
END:DAYLIGHT
BEGIN:STANDARD
TZOFFSETFROM:-0500
TZOFFSETTO:-0600
TZNAME:CST
DTSTART:20261101T070000
END:STANDARD
END:VTIMEZONE
BEGIN:VEVENT
DTSTART;VALUE=DATE:20251001
DTEND;VALUE=DATE:20251003
DTSTAMP:20260424T110100
CREATED:20250812T191617Z
LAST-MODIFIED:20250924T160816Z
UID:10000407-1759276800-1759449599@mogreenbuildings.org
SUMMARY:GPRO Operations + Maintenance (O+M) Essentials Training - October 2025
DESCRIPTION:Sorry\, this course has been cancelled due to low registration. Please reach out to emily@mogreenbuilding.org if you are interesting in this course and we can let you know when the next one is scheduled!  \nGreen Professional Building Skills Training – Operations & Maintenance Essentials\nLearn how to reduce energy use while improving comfort and health for building occupants! \nBuilding design & construction gets a lot of attention\, but the majority of energy that a building uses over time is related to how the building is operated and maintained. Efficient operations and smart maintenance in buildings reduces operating costs and increases occupancy rates and tenant satisfaction. GPRO O&M Essentials provides building professionals with best practices for sustainability building operations. Participants leave with at least three immediately actionable measures and the next steps needed to achieve them. This course is ideal for anyone who needs a better understanding of high-performance building\, including sales or administrative staff in real estate\, construction\, architecture or engineering\, workforce property managers and building staff involved in the operations and maintenance of both residential and commercial buildings including: building superintendents\, operators\, facility and property managers\, operating engineers and stationary engineers and handy people. \nWHEN\nWednesday\, October 1 & Thursday\, October 2\, 2025\n8:30 am – 3:00 pm each day \nFEE\n$300 – Missouri Gateway Green Building Council Members\n$350 for non-members \nFees include continental breakfast\, lunch\, course materials and certificate exam.\nDiscounts and scholarships may be available. Please contact Emily Andrews at 314-577-0854 to inquire. \nINSTRUCTORS\nRyan Corrigan\, Lyon Sheet Metal\nMalachi Rein\, Building Energy Exchange – St. Louis \nCONTINUING EDUCATION HOURS\n11 GBCI CE Hours\, AIA | LU\, and PDH credits \nCOURSE OBJECTIVES\n• Take a systemic approach to operating and maintaining your building.\n• Evaluate building performance.\n• Describe at least three immediately actionable next steps needed to improve the health and efficiency of your building.\n• Explain the costs and benefits of efficiency measures. \nWHAT SHOULD YOU EXPECT?\nGPRO O&M is an 11-hour training that is taught live and in-person by highly knowledgeable instructors with industry experience. You are encouraged to ask questions and participate during classroom discussions and activities. After completing the training\, you can earn a GPRO O&M Certificate by passing a 50-question multiple choice exam. Additionally\, you’ll gain access to shirt on-demand bonus courses on topics such as financing energy projects\, interpreting energy audits and more. \nTOPICS COVERED\n• Fundamentals of Building Green\n• O&M in Green Buildings\n• Building Performance Metrics\n• Building Envelope\n• Water Use\n• Heating\, Cooling & Hot Water\n• Indoor Air Quality\n• Lighting\n• Waste Reduction\n• Resilience\n• Commissioning Existing Buildings\n• Action Plan
URL:https://mogreenbuildings.org/event/gproomoct2025/
LOCATION:Commerce Bank Education Center (CBEC)\, 4651 Shaw Avenue\, St. Louis\, MO\, 63110\, United States
CATEGORIES:Energy Efficiency,Featured
ATTACH;FMTTYPE=image/png:https://mogreenbuildings.org/wp-content/uploads/2023/01/energy.png
END:VEVENT
END:VCALENDAR